BEGIN:VCALENDAR
VERSION:2.0
PRODID:-//Medef de l&#039;Est Parisien - ECPv6.15.20//NONSGML v1.0//EN
CALSCALE:GREGORIAN
METHOD:PUBLISH
X-WR-CALNAME:Medef de l&#039;Est Parisien
X-ORIGINAL-URL:https://medef9394.org
X-WR-CALDESC:Évènements pour Medef de l&#039;Est Parisien
REFRESH-INTERVAL;VALUE=DURATION:PT1H
X-Robots-Tag:noindex
X-PUBLISHED-TTL:PT1H
BEGIN:VTIMEZONE
TZID:UTC
BEGIN:STANDARD
TZOFFSETFROM:+0000
TZOFFSETTO:+0000
TZNAME:UTC
DTSTART:20240101T000000
END:STANDARD
END:VTIMEZONE
BEGIN:VEVENT
DTSTART;TZID=UTC:20250304T090000
DTEND;TZID=UTC:20250304T103000
DTSTAMP:20260421T124305
CREATED:20250218T093810Z
LAST-MODIFIED:20250218T093810Z
UID:14446-1741078800-1741084200@medef9394.org
SUMMARY:Loi de finances 2025
DESCRIPTION:Loi de finances 2025 \nAprès plusieurs semaines d’incertitude et de débats intenses\, nous avons le plaisir de vous inviter avec le cabinet d’avocats Fidal à une matinale d’information dédiée aux mesures phares de la Loi de finances 2025. \nMaître Johanna Flament\, avocat associée du cabinet Fidal\, fera le point sur les principales dispositions adoptées et leur impact. \nPROGRAMME \nParmi les sujets abordés\, nous mettrons en lumière :\n• La contribution différentielle sur les hauts revenus\n• Les management packages\n• La TVA\n• La CVAE\n• Les autres mesures fiscales \nCette matinale vous fournira des analyses détaillées de la loi de finances 2025 et sera l’occasion de poser toutes vos questions. \n  \nLa loi de finances pour 2025\, adoptée le 14 février 2025\, s’inscrit dans une stratégie de redressement des comptes publics visant à ramener le déficit à 5% du PIB dès 2025\, avec un objectif de retour sous les 3% d’ici 2029. Elle prévoit un effort budgétaire conséquent de 60 milliards d’euros d’économies\, dont deux tiers (40 milliards) proviennent de réductions de dépenses publiques. \nLes mesures de recettes représentent environ 20 milliards d’euros\, ciblant les grandes entreprises (chiffre d’affaires supérieur à 1 milliard d’euros) et les hauts revenus (plus de 500 000 € de revenu fiscal de référence annuel pour un couple). \nLe budget du ministère de l’Intérieur augmente à 24\,112 milliards d’euros\, avec une attention particulière portée à la rénovation des casernes de gendarmerie. Les crédits de la mission « Sécurités » progressent de 3\,5% pour atteindre 17\,3 milliards d’euros. \nCette loi de finances\, adoptée dans un contexte procédural inédit\, vise à renforcer la souveraineté et la crédibilité de la France tout en préparant l’avenir. Elle s’inscrit dans le respect des engagements de la Lopmi (loi d’orientation et de programmation du ministère de l’Intérieur) et reflète les priorités du gouvernement en matière de sécurité et de gestion des finances publiques.
URL:https://medef9394.org/agenda/loi-de-finances-2025/
LOCATION:Metafore Vincennes-Foch\, 39 Avenue Foch\, Vincennes\, Île-de-France\, 94300\, France
CATEGORIES:Table ronde
ATTACH;FMTTYPE=image/jpeg:https://medef9394.org/wp-content/uploads/2025/02/Loi-de-finances-v1.jpg
ORGANIZER;CN="Medef de l'Est Parisien":MAILTO:contact@medef9394.org
END:VEVENT
END:VCALENDAR