BEGIN:VCALENDAR
VERSION:2.0
PRODID:-//Medef de l&#039;Est Parisien - ECPv6.15.20//NONSGML v1.0//EN
CALSCALE:GREGORIAN
METHOD:PUBLISH
X-ORIGINAL-URL:https://medef9394.org
X-WR-CALDESC:Évènements pour Medef de l&#039;Est Parisien
REFRESH-INTERVAL;VALUE=DURATION:PT1H
X-Robots-Tag:noindex
X-PUBLISHED-TTL:PT1H
BEGIN:VTIMEZONE
TZID:UTC
BEGIN:STANDARD
TZOFFSETFROM:+0000
TZOFFSETTO:+0000
TZNAME:UTC
DTSTART:20230101T000000
END:STANDARD
END:VTIMEZONE
BEGIN:VEVENT
DTSTART;TZID=UTC:20241210T090000
DTEND;TZID=UTC:20241210T103000
DTSTAMP:20260421T165004
CREATED:20241202T102132Z
LAST-MODIFIED:20241203T133436Z
UID:13686-1733821200-1733826600@medef9394.org
SUMMARY:Organisation du temps de travail : Quelles possibilités en 2025 ?
DESCRIPTION:Organisation du temps de travail : Quelles possibilités en 2025 ? \nVous cherchez à optimiser la productivité de votre entreprise tout en améliorant la qualité de vie au travail de vos équipes ? L’organisation du temps de travail est la clé ! \nLe Medef de l’Est Parisien et le Cabinet PRK & Associés vous convient à une table ronde pour un décryptage complet des dernières évolutions en matière d’organisation du temps de travail. \nAu cours de cette matinale\, il vous sera détaillé les mesures pour négocier et réviser vos accords d’entreprise\, choisir les outils les mieux adaptés à vos besoins (annualisation\, forfaits\, etc.)\, optimiser la durée du travail tout en respectant les droits de vos salariés et prévenir les risques liés à une mauvaise gestion du temps de travail. \nREJOIGNEZ-NOUS POUR : \n\nUn tour d’horizon complet des possibilités offertes en 2025\,\nLa sécurisation de vos contrats de travail en forfaits jours\,\nDes échanges enrichissants avec des experts et vos pairs\,\nUn moment convivial autour d’un petit-déjeuner.\n\nIntervenants : \n\nLionel HERSCOVICI\, Avocat chez PRK\, expert en droit du travail et relations sociales\nÉmilie TOURNIER\, Avocat experte en droit du travail\, Administratrice à la CNBF
URL:https://medef9394.org/agenda/organisation-du-temps-de-travail/
LOCATION:Metafore Vincennes-Foch\, 39 Avenue Foch\, Vincennes\, Île-de-France\, 94300\, France
CATEGORIES:Table ronde
ATTACH;FMTTYPE=image/jpeg:https://medef9394.org/wp-content/uploads/2024/12/Visuel-Organisation-du-Travail-01.jpg
ORGANIZER;CN="Medef de l'Est Parisien":MAILTO:contact@medef9394.org
END:VEVENT
END:VCALENDAR