BEGIN:VCALENDAR
VERSION:2.0
PRODID:-//Medef de l&#039;Est Parisien - ECPv6.15.20//NONSGML v1.0//EN
CALSCALE:GREGORIAN
METHOD:PUBLISH
X-ORIGINAL-URL:https://medef9394.org
X-WR-CALDESC:Évènements pour Medef de l&#039;Est Parisien
REFRESH-INTERVAL;VALUE=DURATION:PT1H
X-Robots-Tag:noindex
X-PUBLISHED-TTL:PT1H
BEGIN:VTIMEZONE
TZID:UTC
BEGIN:STANDARD
TZOFFSETFROM:+0000
TZOFFSETTO:+0000
TZNAME:UTC
DTSTART:20240101T000000
END:STANDARD
END:VTIMEZONE
BEGIN:VEVENT
DTSTART;TZID=UTC:20251211T090000
DTEND;TZID=UTC:20251211T133000
DTSTAMP:20260421T111150
CREATED:20251205T083200Z
LAST-MODIFIED:20251205T083200Z
UID:16782-1765443600-1765459800@medef9394.org
SUMMARY:Inclusion et emploi des personnes en situation de handicap
DESCRIPTION:Inclusion et emploi des personnes en situation de handicap\nComment passer de l’intention à l’action\nNous avons le plaisir de vous inviter à une matinée dédiée à l’inclusion et à la diversité\, organisée par CODE PLIE en partenariat avec Plaine Commune Promotion\, Plaine Commune et Kliff by Randstad. \nCette matinée a pour objectif de sensibiliser les entreprises aux enjeux de l’inclusion des personnes en situation de handicap et de favoriser des échanges enrichissants. \n  \nProgramme de la matinée : \nNous avons prévu un programme dynamique et interactif\, conçu pour répondre aux préoccupations des entreprises\, et partager des solutions concrètes : \n\n9h00 – 9h30 : Accueil convivial autour d’un petit-déjeuner\n9h30 – 9h45 : Ouverture de l’événement\n9h45 – 10h15 : Présentation du projet HANDILAB et de 2 startups\n10h15 – 11h45 : Table ronde – « Inclusion et emploi des personnes en situation de handicap : comment passer de l’intention à l’action ? »\n\n  \nUn modérateur pour dynamiser les échanges. Alexis MEUNIER (référent santé / handicap) \n\n11h45 – 12h00 : Conclusion et perspectives\n12h00 – 13h15 : Cocktail déjeunatoire et réseautage\n\n  \nNous espérons vous compter parmi nous pour cette matinée riche en échanges et en inspirations. L’inscription est obligatoire
URL:https://medef9394.org/agenda/inclusion-et-emploi-des-personnes-en-situation-de-handicap/
LOCATION:Handilab\, 84 Rue Charles Michels\, Saint-Denis\, 93200\, France
CATEGORIES:Conférence
ATTACH;FMTTYPE=image/jpeg:https://medef9394.org/wp-content/uploads/2025/12/Invitation-11-decembre.jpg
END:VEVENT
END:VCALENDAR