BEGIN:VCALENDAR
VERSION:2.0
PRODID:-//Medef de l&#039;Est Parisien - ECPv6.15.20//NONSGML v1.0//EN
CALSCALE:GREGORIAN
METHOD:PUBLISH
X-WR-CALNAME:Medef de l&#039;Est Parisien
X-ORIGINAL-URL:https://medef9394.org
X-WR-CALDESC:Évènements pour Medef de l&#039;Est Parisien
REFRESH-INTERVAL;VALUE=DURATION:PT1H
X-Robots-Tag:noindex
X-PUBLISHED-TTL:PT1H
BEGIN:VTIMEZONE
TZID:UTC
BEGIN:STANDARD
TZOFFSETFROM:+0000
TZOFFSETTO:+0000
TZNAME:UTC
DTSTART:20240101T000000
END:STANDARD
END:VTIMEZONE
BEGIN:VEVENT
DTSTART;TZID=UTC:20251022T100000
DTEND;TZID=UTC:20251024T170000
DTSTAMP:20260421T140930
CREATED:20250926T084844Z
LAST-MODIFIED:20250926T084844Z
UID:16478-1761127200-1761325200@medef9394.org
SUMMARY:Forum sur l’investissement et les partenariats en république centrafricaine
DESCRIPTION:Forum sur l’investissement et les partenariats en république centrafricaine\nDates : 22-24 octobre 2025\nLieu : Bangui – République centrafricaine\nOrganisation : Groupe Carat Investissements \nSous le Très Haut Patronage de S.E\,\nMonsieur Faustin Archange TOUADERA\,\nPrésident de la République\,\nSous l’égide de S.E\, Monsieur Hervé NDOBA\, Ministre des Finances et du Budget\net Hippolyte NGATE ROBARD\, Ministre des PME PMI et de la Promotion du Secteur Privé. \nAVEC LA PARTICIPATION DE LA CHAMBRE INTERNATIONALE POUR LE\nCONSEIL ET LA PROMOTION (CICP) PARIS\, ET LE CABINET CHALLENGE PRO\nFRANCE \nCet événement constitue une plateforme unique pour : \nDécouvrir les opportunités d’investissement dans des secteurs stratégiques : \n\nInfrastructures & énergie\nAgriculture & agro-industrie\nMines & ressources naturelles\nTourisme & culture\nTechnologies & innovation\n\nNouer des partenariats stratégiques avec des acteurs clés : institutions financières\, fonds d’investissement\, entreprises locales et internationales. \nÉchanger directement avec les décideurs et comprendre les réformes et projets porteurs de croissance. \nPourquoi participer ? \n\nAccéder à un marché jeune\, en pleine croissance et à fort potentiel.\nIdentifier des projets d’investissement viables et rentables.\nFaciliter vos démarches et élargir vos réseaux d’affaires en Afrique centrale.\n\nLe Forum réunira des personnalités de premier plan telles que Aliko Dangote\, Akinwumi Adesina (Président de la BAD)\, Patrice Motsepe\, Nassef Sawiris\, ainsi que des leaders de l’innovation comme Olugbenga Agboola (Flutterwave) et Tope Awotona (Calendly). \nNe manquez pas ce rendez-vous incontournable pour bâtir l’avenir de l’investissement en Afrique centrale ! \nPour toute information et inscription : caratinvestissements@gmail.com | 📞 +236 72 72 22 00
URL:https://medef9394.org/agenda/forum-sur-linvestissement-et-les-partenariats-en-republique-centrafricaine/
CATEGORIES:Conférence,Convention d'affaires
ATTACH;FMTTYPE=image/jpeg:https://medef9394.org/wp-content/uploads/2025/09/Forum-last-flyer.jpg
END:VEVENT
BEGIN:VEVENT
DTSTART;TZID=UTC:20251024T100000
DTEND;TZID=UTC:20251024T180000
DTSTAMP:20260421T140930
CREATED:20251016T150558Z
LAST-MODIFIED:20251016T150558Z
UID:16549-1761300000-1761328800@medef9394.org
SUMMARY:Octobre Rose - Reconversions & Rémissions
DESCRIPTION:Octobre Rose – Reconversions & Rémissions\nOctobre Rose | Une journée pour allier reconversion\, résilience et bien-être \nEt si la résilience devenait le moteur d’un nouveau départ ? \nÀ l’occasion d’Octobre Rose\, l’association Au-delà de la Résilience et Transitions Pro Île-de-France vous invitent à une journée placée sous le signe de la reconversion et de la rémission. \nAu programme : \n\nDes ateliers inspirants pour reprendre confiance\, transformer vos émotions en alliées\, révéler votre potentiel entrepreneurial ou encore découvrir l’art de la vente.\nDes temps d’échanges et de networking pour tisser des liens et partager des expériences.\nDes moments bien-être et artistiques (massages\, gospel\, danse\, dégustation autour du potiron…) pour célébrer la force et la féminité.\nUn podcast en direct “Call Me Badass” avec Neli Martin et Prisca Tien Chin Fray.\n\nUne journée pour apprendre\, s’inspirer\, se reconnecter à soi et aux autres — parce qu’après l’épreuve\, il y a toujours un nouvel élan.
URL:https://medef9394.org/agenda/octobre-rose-reconversions-remissions/
LOCATION:La Maison de la Reconversion\, 1 place Johann Strauss\, Paris\, 75010\, France
CATEGORIES:Conférence,Réseautage,Salon
ATTACH;FMTTYPE=image/jpeg:https://medef9394.org/wp-content/uploads/2025/10/AFFICHE-A4.jpg
END:VEVENT
END:VCALENDAR