BEGIN:VCALENDAR
VERSION:2.0
PRODID:-//Medef de l&#039;Est Parisien - ECPv6.15.20//NONSGML v1.0//EN
CALSCALE:GREGORIAN
METHOD:PUBLISH
X-WR-CALNAME:Medef de l&#039;Est Parisien
X-ORIGINAL-URL:https://medef9394.org
X-WR-CALDESC:Évènements pour Medef de l&#039;Est Parisien
REFRESH-INTERVAL;VALUE=DURATION:PT1H
X-Robots-Tag:noindex
X-PUBLISHED-TTL:PT1H
BEGIN:VTIMEZONE
TZID:UTC
BEGIN:STANDARD
TZOFFSETFROM:+0000
TZOFFSETTO:+0000
TZNAME:UTC
DTSTART:20240101T000000
END:STANDARD
END:VTIMEZONE
BEGIN:VEVENT
DTSTART;TZID=UTC:20251016T140000
DTEND;TZID=UTC:20251016T160000
DTSTAMP:20260421T140928
CREATED:20250909T161102Z
LAST-MODIFIED:20250909T161219Z
UID:16382-1760623200-1760630400@medef9394.org
SUMMARY:Les nouveaux défis du paritarisme et du dialogue social
DESCRIPTION:Les nouveaux défis du paritarisme et du dialogue social\nFormat : 2h en présentiel ou à distance \nDepuis la refondation sociale de 2000\, le MEDEF a modernisé son approche\, renforçant son engagement dans le dialogue social et les négociations nationales. Depuis quelques années\, et dernièrement par la signature de l’accord national interprofessionnel du 14 avril 2022\, le paritarisme a retrouvé son importance\, témoignant de la capacité du MEDEF à s’adapter aux évolutions économiques et sociales. \nCette rencontre vise à mieux com- prendre les nouveaux défis qui se posent en matière de dialogue social tant au niveau interprofessionnel que dans les entreprises notamment face à la montée des collectifs en leur sein et à la baisse de l’engagement syndical. \nAu cours de cette rencontre\, nous évoquerons également certaines innovations sociales qui favorisent le dialogue professionnel et le paritarisme de négociation au sein des entre- prises.\nNous entendrons également les témoi- gnages de certains responsables d’entreprise qui nous présenteront les actions mises en place pour encourager le dialogue avec l’en- semble des parties\nprenantes. \nAnimée par Jean-Dominique Simonpoli
URL:https://medef9394.org/agenda/les-nouveaux-defis-du-paritarisme-et-du-dialogue-social/
CATEGORIES:Conférence,Webinaire
ATTACH;FMTTYPE=image/png:https://medef9394.org/wp-content/uploads/2025/07/Banniere-Academie-site-internet-MT-1024-x-544-px.png
END:VEVENT
END:VCALENDAR