BEGIN:VCALENDAR
VERSION:2.0
PRODID:-//Medef de l&#039;Est Parisien - ECPv6.15.20//NONSGML v1.0//EN
CALSCALE:GREGORIAN
METHOD:PUBLISH
X-WR-CALNAME:Medef de l&#039;Est Parisien
X-ORIGINAL-URL:https://medef9394.org
X-WR-CALDESC:Évènements pour Medef de l&#039;Est Parisien
REFRESH-INTERVAL;VALUE=DURATION:PT1H
X-Robots-Tag:noindex
X-PUBLISHED-TTL:PT1H
BEGIN:VTIMEZONE
TZID:UTC
BEGIN:STANDARD
TZOFFSETFROM:+0000
TZOFFSETTO:+0000
TZNAME:UTC
DTSTART:20240101T000000
END:STANDARD
END:VTIMEZONE
BEGIN:VEVENT
DTSTART;VALUE=DATE:20251013
DTEND;VALUE=DATE:20251014
DTSTAMP:20260421T140957
CREATED:20250925T154633Z
LAST-MODIFIED:20251008T080853Z
UID:16475-1760313600-1760399999@medef9394.org
SUMMARY:Reporté - Mobilisation générale des chefs d'entreprise
DESCRIPTION:Le MEDEF a pris la décision de reporter le grand rassemblement patronal “Faisons gagner la France”\, qui devait se dérouler à l’Accor Arena de Paris-Bercy\,  le 13 octobre prochain. \nDepuis plus d’un an\, notre pays traverse une crise majeure. Il est paralysé politiquement et économiquement. Ce matin\, nous sommes entrés dans une nouvelle phase qui risque de nous conduire à une crise institutionnelle. Dans ce contexte\, nous appelons l’ensemble des responsables politiques à prendre la mesure d’une situation qui peut amener notre pays au chaos et aggraver encore davantage notre situation économique. \nDans ces conditions\, le Medef\, conscient de ses responsabilités envers tous les chefs d’entreprise mais aussi envers notre pays\, a décidé de reporter le grand rassemblement patronal du 13 octobre prochain. Le moment d’extrême tension que nous traversons nous incite à contribuer à l’apaisement du pays. \nIl n’en demeure pas moins que tous les objectifs que ce grand rassemblement se fixait restent intacts et que l’inquiétude voire la colère des centaines de milliers d’entrepreneurs formidablement mobilisés par nos fédérations et nos Medef territoriaux\, doit être entendue et que des solutions concrètes et urgentes devront être apportées. \nUne contribution de 10 euros vous avait été demandée lors de votre inscription. Ces droits devaient intégralement être versés au Fonds social de l’association GSC constitué au profit des chefs d’entreprise affiliés en difficulté. Ils vous seront remboursés sous 10 jours. Nous vous remercions pour votre confiance et vous tiendrons informés de notre mobilisation.
URL:https://medef9394.org/agenda/save-the-date-mobilisation-generale-des-chefs-dentreprise/
LOCATION:ACCOR ARENA DE PARIS BERCY\, 8 Bd de Bercy\, Paris\, 75012\, France
CATEGORIES:Conférence,Journée nationale
ATTACH;FMTTYPE=image/jpeg:https://medef9394.org/wp-content/uploads/2025/10/Bandeau_Faire-gagner-la-France_MEDEF_2025.jpg
END:VEVENT
END:VCALENDAR