BEGIN:VCALENDAR
VERSION:2.0
PRODID:-//Medef de l&#039;Est Parisien - ECPv6.15.20//NONSGML v1.0//EN
CALSCALE:GREGORIAN
METHOD:PUBLISH
X-WR-CALNAME:Medef de l&#039;Est Parisien
X-ORIGINAL-URL:https://medef9394.org
X-WR-CALDESC:Évènements pour Medef de l&#039;Est Parisien
REFRESH-INTERVAL;VALUE=DURATION:PT1H
X-Robots-Tag:noindex
X-PUBLISHED-TTL:PT1H
BEGIN:VTIMEZONE
TZID:UTC
BEGIN:STANDARD
TZOFFSETFROM:+0000
TZOFFSETTO:+0000
TZNAME:UTC
DTSTART:20240101T000000
END:STANDARD
END:VTIMEZONE
BEGIN:VEVENT
DTSTART;TZID=UTC:20250707T090000
DTEND;TZID=UTC:20250707T123000
DTSTAMP:20260421T180250
CREATED:20250625T074244Z
LAST-MODIFIED:20250630T110129Z
UID:15992-1751878800-1751891400@medef9394.org
SUMMARY:Emploi des 50 et + en Île-de-France
DESCRIPTION:Emploi des 50 et + en Île-de-France\nDans un contexte de vieillissement de la population et de tensions accrues sur le marché du travail\, il devient impératif de changer de regard sur les compétences des plus de 50 ans. \nPour y répondre\, la Préfecture de la région d’Île-de-France organise\, aux côtés de la Drieets Île-de-France\, une matinée d’échanges et de témoignages autour de l’emploi des 50 ans et plus\, avec l’appui de nombreux partenaires : ANDRH\, Club « Les entreprises s’engagent »\, CCI\, France Travail Pro\, Transitions Pro\, APEC\, ARACT\, MEDEF\, CPME\, U2P… \nAU PROGRAMME : \n\nQuels enjeux pour une nouvelle politique en faveur de l’emploi des 50+ ? Avec l’intervention exceptionnelle d’Astrid Panosyan-Bouvet\, ministre chargée du Travail et de l’Emploi ;\nRecruter après 50 ans\, c’est possible ! Des employeurs viendront partager leurs pratiques RH innovantes et inclusives ;\nComment développer les solutions d’évolution professionnelle ? Focus sur la formation\, la reconversion\, les passerelles intersectorielles et l’accompagnement individualisé.
URL:https://medef9394.org/agenda/emploi-des-50-et-en-ile-de-france/
LOCATION:Préfecture de Paris et d’Île-de-France\, 5 rue Leblanc\, Paris\, 75015\, France
CATEGORIES:Conférence
ATTACH;FMTTYPE=image/webp:https://medef9394.org/wp-content/uploads/2025/06/Visuel-page-entreprises.png.webp
END:VEVENT
BEGIN:VEVENT
DTSTART;TZID=UTC:20250707T184500
DTEND;TZID=UTC:20250707T203000
DTSTAMP:20260421T180250
CREATED:20250630T145451Z
LAST-MODIFIED:20250630T145451Z
UID:16054-1751913900-1751920200@medef9394.org
SUMMARY:UN SOIR AU MEDEF
DESCRIPTION:UN SOIR AU MEDEF\nAvec la présence exceptionnelle de :\nOlivier GUEZ\nJournaliste\, écrivain\, essayiste et professeur à l’Université de Princeton (New Jersey). Il a reçu le Prix Renaudot en 2017 pour La Disparition de Josef Mengele. \nLors de cette soirée\, Olivier Guez nous emmènera dans une plongée au coeur de l’Amérique de Donald Trump ; il partagera sa vision très pointue des Etats- Unis. Est-ce la fin de la démocratie libérale ? Quelle place pour l’Europe ? Il dialoguera notamment avec Patrick Martin\, président du Medef. \nUne soirée animée par Jean-Dominique MERCHET\, éditorialiste à L’Opinion\, en charge des questions internationales et de Défense. \nUne séance de dédicaces avec Olivier Guez sera organisée à l’issue de la conférence\, lors du cocktail à 20h30. \n  \nRevivez la précédente édition de « Un Soir au Medef » avec Giuliano da Empoli : https://www.youtube.com/watch?v=2vELVnstaR8
URL:https://medef9394.org/agenda/un-soir-au-medef-7-juillet-2025/
LOCATION:MEDEF\, 55 avenue Bosquet\, PARIS\, Île-de-France\, 75007\, France
CATEGORIES:Conférence
ATTACH;FMTTYPE=image/jpeg:https://medef9394.org/wp-content/uploads/2025/03/Un-soir-au-Medef.jpg
END:VEVENT
END:VCALENDAR