BEGIN:VCALENDAR
VERSION:2.0
PRODID:-//Medef de l&#039;Est Parisien - ECPv6.15.20//NONSGML v1.0//EN
CALSCALE:GREGORIAN
METHOD:PUBLISH
X-ORIGINAL-URL:https://medef9394.org
X-WR-CALDESC:Évènements pour Medef de l&#039;Est Parisien
REFRESH-INTERVAL;VALUE=DURATION:PT1H
X-Robots-Tag:noindex
X-PUBLISHED-TTL:PT1H
BEGIN:VTIMEZONE
TZID:UTC
BEGIN:STANDARD
TZOFFSETFROM:+0000
TZOFFSETTO:+0000
TZNAME:UTC
DTSTART:20240101T000000
END:STANDARD
END:VTIMEZONE
BEGIN:VEVENT
DTSTART;TZID=UTC:20250625T180000
DTEND;TZID=UTC:20250625T200000
DTSTAMP:20260421T192328
CREATED:20250602T120023Z
LAST-MODIFIED:20250630T110131Z
UID:15897-1750874400-1750881600@medef9394.org
SUMMARY:Entrepreneurs : 2 heures pour faire décoller votre chiffre d’affaires
DESCRIPTION:Entrepreneurs : 2 heures pour faire décoller votre chiffre d’affaires\nSoirée « Rendez-vous d’affaires » : développez votre business à l’échelle de tout un territoire ! \nXavier LEMOINE \nPrésident de Grand Paris Grand Est\, Maire de Montfermeil \nJean-Michel GENESTIER \nVice-Président en charge du développement économique\, Maire du Raincy \net Jean-Michel BLUTEAU \nMaire de Villemomble\, Vice-Président en charge de l’assainissement et du plan baignade \nvous invitent à participer au Business Meeting de Grand Paris Grand Est pour développer votre business à l’échelle de tout un territoire et rencontrer vos futurs partenaires commerciaux et institutionnels \nPROGRAMME \n17h30 \nAnimation économique spécifique organisée par Le Réacteur\, le club d’entreprises de l’ADEEV. \n18h00 \nAccueil et discours introductif de Monsieur Jean-Michel BLUTEAU\, Maire de Villemomble\, Vice-président de Grand Paris Grand Est. \n18h30 \nDébut des présentations pour des échanges personnalisés et croisés de chaque participant avec des dizaines de dirigeants (futurs clients\, fournisseurs et partenaires potentiels) animés par M. Franck FISZEL\, Fondateur de Coach Europe. \n20h00 \nDiscours de clôture. \n20h10\nCocktail dînatoire et prolongation des échanges. \n 
URL:https://medef9394.org/agenda/entrepreneurs-2-heures-pour-faire-decoller-votre-chiffre-daffaires/
LOCATION:SALLE PAUL DELOUVRIER\, 33-35 route de Noisy\, Villemomble\, 93250\, France
CATEGORIES:Conférence,Réseautage
ATTACH;FMTTYPE=image/jpeg:https://medef9394.org/wp-content/uploads/2025/06/Visuel-soiree.jpg
END:VEVENT
END:VCALENDAR