BEGIN:VCALENDAR
VERSION:2.0
PRODID:-//Medef de l&#039;Est Parisien - ECPv6.15.20//NONSGML v1.0//EN
CALSCALE:GREGORIAN
METHOD:PUBLISH
X-ORIGINAL-URL:https://medef9394.org
X-WR-CALDESC:Évènements pour Medef de l&#039;Est Parisien
REFRESH-INTERVAL;VALUE=DURATION:PT1H
X-Robots-Tag:noindex
X-PUBLISHED-TTL:PT1H
BEGIN:VTIMEZONE
TZID:UTC
BEGIN:STANDARD
TZOFFSETFROM:+0000
TZOFFSETTO:+0000
TZNAME:UTC
DTSTART:20240101T000000
END:STANDARD
END:VTIMEZONE
BEGIN:VEVENT
DTSTART;TZID=UTC:20250213T083000
DTEND;TZID=UTC:20250213T103000
DTSTAMP:20260422T010347
CREATED:20241112T132131Z
LAST-MODIFIED:20241203T133318Z
UID:13198-1739435400-1739442600@medef9394.org
SUMMARY:Comment l'IA facilite le quotidien des services RH (Date à définir)​
DESCRIPTION:COMMENT L’IA PEUT FACILITER LE QUOTIDIEN DE NOS SERVICES RH \nConférence animée par Mariam KHATTAB\, Directrice Générale de Mozaïk RH \nFÉVRIER (Date à définir)​ \nLes services des ressources humaines font face à de nombreux défis au quotidien : gestion des paies\, recrutement\, formation\, gestion administrative\, etc. Heureusement\, l’intelligence artificielle (IA) apporte des solutions concrètes pour simplifier et optimiser les tâches des équipes RH. \nAutomatisation des tâches administratives \nL’IA permet d’automatiser de nombreuses tâches administratives chronophages comme la saisie des données\, la génération de documents\, le suivi des congés\, etc. Cela libère les équipes RH pour se concentrer sur des missions à plus forte valeur ajoutée. \nOptimisation du processus de recrutement \nL’IA peut grandement faciliter les différentes étapes du recrutement\, de la publication des offres à l’évaluation des candidats. Par exemple\, les chatbots basés sur l’IA peuvent répondre automatiquement aux questions des candidats\, tandis que l’analyse de CV et d’entretiens aide à identifier les profils les plus pertinents. \nPersonnalisation des parcours employés \nGrâce à l’IA\, les services RH peuvent proposer des expériences sur-mesure à chaque collaborateur\, depuis l’intégration jusqu’à la gestion de carrière. L’IA permet notamment de recommander des formations adaptées aux besoins de chacun. \nPrévention des risques RH \nL’analyse prédictive basée sur l’IA peut aider les services RH à anticiper et prévenir certains risques comme le turnover ou les conflits. En identifiant les signaux faibles\, l’IA permet de mettre en place des actions préventives. \nAmélioration continue des processus \nGrâce à l’analyse des données RH\, l’IA aide les équipes à identifier les points de friction et à optimiser en continu leurs processus. Cela se traduit par une meilleure expérience pour les employés et une plus grande efficacité pour les services RH. \nEn conclusion\, l’IA représente un levier puissant pour simplifier le quotidien des services RH et leur permettre de se concentrer sur des missions à plus forte valeur ajoutée. De l’automatisation à la personnalisation en passant par la prévention des risques\, l’IA offre de nombreuses possibilités d’amélioration.
URL:https://medef9394.org/agenda/comment-lia-facilite-le-quotidien-des-services-rh-date-a-definir/
LOCATION:Metafore Vincennes-Foch\, 39 Avenue Foch\, Vincennes\, Île-de-France\, 94300\, France
CATEGORIES:Conférence
ATTACH;FMTTYPE=image/jpeg:https://medef9394.org/wp-content/uploads/2024/10/Visuel-Zoho-Campaigns-V4.jpg
ORGANIZER;CN="Medef de l'Est Parisien":MAILTO:contact@medef9394.org
END:VEVENT
END:VCALENDAR