BEGIN:VCALENDAR
VERSION:2.0
PRODID:-//Medef de l&#039;Est Parisien - ECPv6.15.20//NONSGML v1.0//EN
CALSCALE:GREGORIAN
METHOD:PUBLISH
X-WR-CALNAME:Medef de l&#039;Est Parisien
X-ORIGINAL-URL:https://medef9394.org
X-WR-CALDESC:Évènements pour Medef de l&#039;Est Parisien
REFRESH-INTERVAL;VALUE=DURATION:PT1H
X-Robots-Tag:noindex
X-PUBLISHED-TTL:PT1H
BEGIN:VTIMEZONE
TZID:UTC
BEGIN:STANDARD
TZOFFSETFROM:+0000
TZOFFSETTO:+0000
TZNAME:UTC
DTSTART:20240101T000000
END:STANDARD
END:VTIMEZONE
BEGIN:VEVENT
DTSTART;TZID=UTC:20250204T170000
DTEND;TZID=UTC:20250204T190000
DTSTAMP:20260422T010731
CREATED:20241218T113510Z
LAST-MODIFIED:20241218T113737Z
UID:14018-1738688400-1738695600@medef9394.org
SUMMARY:Tour de France de l'IA - Étape finale à Paris
DESCRIPTION:Tour de France de l’IA – Étape finale à Paris \nDepuis le 30 octobre 2024\, le Tour de France de l’IA parcourt les régions avec plus d’une vingtaine d’étapes\, explorant les avancées et les perspectives qu’offre l’intelligence artificielle en France. À cette occasion\, nous vous invitons à l’étape finale\, un événement exceptionnel organisé par le MEDEF Île-de-France et les MEDEF Paris\, Seine-et-Marne\, Yvelines\, Essonne\, Hauts-de-Seine\, Est Parisien et Val-d’Oise\, en collaboration avec le MEDEF et Numeum\, sur le thème : \n« Bilan du Tour de France de l’IA & ambitions partagées »\n(cocktail à l’issue) \nCet événement sera une occasion unique de : \n\nRencontrer des chefs d’entreprise et experts engagés dans la transformation numérique ;\nExplorer les défis et perspectives autour des usages de l’IA dans les entreprises ;\nParticiper aux échanges qui contribueront aux politiques publiques et à la compétitivité des entreprises face aux enjeux de l’IA.Les retours de cette soirée enrichiront la contribution du MEDEF et de Numeum en vue du sommet mondial – AI Action Summit (10-11 février 2025) – réunissant au Grand Palais chefs d’État\, entreprises\, chercheurs et membres de la société civile.
URL:https://medef9394.org/agenda/tour-de-france-de-lia-etape-finale-a-paris/
LOCATION:MEDEF\, 55 avenue Bosquet\, PARIS\, Île-de-France\, 75007\, France
CATEGORIES:Conférence
ATTACH;FMTTYPE=image/jpeg:https://medef9394.org/wp-content/uploads/2024/12/Tour-de-France-de-l-IA_Final.ai_-scaled.jpg
END:VEVENT
END:VCALENDAR