BEGIN:VCALENDAR
VERSION:2.0
PRODID:-//Medef de l&#039;Est Parisien - ECPv6.15.20//NONSGML v1.0//EN
CALSCALE:GREGORIAN
METHOD:PUBLISH
X-ORIGINAL-URL:https://medef9394.org
X-WR-CALDESC:Évènements pour Medef de l&#039;Est Parisien
REFRESH-INTERVAL;VALUE=DURATION:PT1H
X-Robots-Tag:noindex
X-PUBLISHED-TTL:PT1H
BEGIN:VTIMEZONE
TZID:UTC
BEGIN:STANDARD
TZOFFSETFROM:+0000
TZOFFSETTO:+0000
TZNAME:UTC
DTSTART:20240101T000000
END:STANDARD
END:VTIMEZONE
BEGIN:VEVENT
DTSTART;TZID=UTC:20250123T083000
DTEND;TZID=UTC:20250123T103000
DTSTAMP:20260422T023531
CREATED:20241112T123555Z
LAST-MODIFIED:20241203T133334Z
UID:13194-1737621000-1737628200@medef9394.org
SUMMARY:IA Formation Prospection commerciale
DESCRIPTION:IA Formation Prospection commerciale \nConférence animée par Jean-René Guillaumet\, Fondateur de Booster Academy \n  \nDans le monde des ventes et du marketing\, la prospection est un élément essentiel pour générer de nouveaux leads et développer son portefeuille client. Cependant\, cette tâche peut s’avérer fastidieuse et chronophage pour les commerciaux. Heureusement\, l’intelligence artificielle (IA) offre de nombreuses solutions pour faciliter et optimiser la prospection. \nIdentification des cibles les plus pertinentes \nL’IA peut analyser une grande quantité de données sur les clients et les prospects potentiels pour identifier ceux qui correspondent le mieux à votre offre. Grâce à l’apprentissage automatique\, l’IA peut détecter des tendances et des motifs dans les données qui vous permettront de cibler avec précision les personnes les plus susceptibles d’être intéressées par vos produits ou services. \nPersonnalisation des messages de prospection \nEn s’appuyant sur les informations collectées sur les prospects\, l’IA peut générer automatiquement des messages de prospection personnalisés et pertinents. Cela permet d’améliorer considérablement les taux d’engagement et de conversion par rapport à des approches standardisées. \nPriorisation et planification des actions \nL’IA peut également vous aider à prioriser vos actions de prospection et à planifier votre stratégie de manière plus efficace. Elle peut par exemple vous indiquer quels prospects sont les plus susceptibles de répondre favorablement à vos sollicitations et à quel moment il serait le plus judicieux de les contacter. \nAnalyse des résultats et optimisation continue \nEnfin\, l’IA peut analyser les résultats de vos actions de prospection pour vous aider à identifier les meilleures pratiques et à optimiser en continu votre stratégie. Grâce à l’analyse des données\, vous pourrez affiner vos méthodes et obtenir de meilleurs retours sur investissement. \nEn résumé\, l’IA représente un atout majeur pour améliorer l’efficacité de la prospection commerciale. En automatisant certaines tâches\, en personnalisant les approches et en optimisant les processus\, elle permet aux commerciaux de se concentrer sur l’essentiel : nouer des relations durables avec leurs prospects et clients.
URL:https://medef9394.org/agenda/ia-formation-prospection-commerciale/
LOCATION:Metafore Vincennes-Foch\, 39 Avenue Foch\, Vincennes\, Île-de-France\, 94300\, France
CATEGORIES:Conférence
ATTACH;FMTTYPE=image/jpeg:https://medef9394.org/wp-content/uploads/2024/10/Visuel-Zoho-Campaigns-V4.jpg
ORGANIZER;CN="Medef de l'Est Parisien":MAILTO:contact@medef9394.org
END:VEVENT
END:VCALENDAR