BEGIN:VCALENDAR
VERSION:2.0
PRODID:-//Medef de l&#039;Est Parisien - ECPv6.15.20//NONSGML v1.0//EN
CALSCALE:GREGORIAN
METHOD:PUBLISH
X-ORIGINAL-URL:https://medef9394.org
X-WR-CALDESC:Évènements pour Medef de l&#039;Est Parisien
REFRESH-INTERVAL;VALUE=DURATION:PT1H
X-Robots-Tag:noindex
X-PUBLISHED-TTL:PT1H
BEGIN:VTIMEZONE
TZID:UTC
BEGIN:STANDARD
TZOFFSETFROM:+0000
TZOFFSETTO:+0000
TZNAME:UTC
DTSTART:20240101T000000
END:STANDARD
END:VTIMEZONE
BEGIN:VEVENT
DTSTART;TZID=UTC:20251101T080000
DTEND;TZID=UTC:20251130T170000
DTSTAMP:20260421T110932
CREATED:20250903T094844Z
LAST-MODIFIED:20250903T095118Z
UID:16339-1761984000-1764522000@medef9394.org
SUMMARY:Intelligence Artificielle Générative : les principaux outils et leurs usages
DESCRIPTION:Intelligence Artificielle Générative : les principaux outils et leurs usages\nFormat : 3h en présentiel et à distance \nDate : Courant novembre\, à définir \nL’intelligence artificielle générative trans- forme profondément le paysage économique et nos méthodes de travail. Cette formation à destination des délégués généraux du réseau MEDEF vise à vous permettre de mieux appréhender ces outils et à comprendre leurs usages dans leur quotidien pour pouvoir mieux accompagner les entreprises\, anticiper les défis éthiques et juridiques liés à l’IA\, et promouvoir l’adoption de technologies de pointe. Cette formation vous permettra aussi de sensibiliser les entreprises aux opportunités et risques de l’IA générative\, vous permettant ainsi de continuer à agir pour une croissance responsable. \nAnimée par My Connecting IA \n 
URL:https://medef9394.org/agenda/intelligence-artificielle-generative-les-principaux-outils-et-leurs-usages/
LOCATION:MEDEF\, 55 avenue Bosquet\, PARIS\, Île-de-France\, 75007\, France
CATEGORIES:Conférence,Webinaire
ATTACH;FMTTYPE=image/png:https://medef9394.org/wp-content/uploads/2025/07/Banniere-Academie-site-internet-MT-1024-x-544-px.png
END:VEVENT
BEGIN:VEVENT
DTSTART;TZID=UTC:20251103T140000
DTEND;TZID=UTC:20251103T173000
DTSTAMP:20260421T110932
CREATED:20250903T094136Z
LAST-MODIFIED:20250903T095753Z
UID:16337-1762178400-1762191000@medef9394.org
SUMMARY:La découverte du logement social
DESCRIPTION:La découverte du logement social\nFormat : 3h30 en présentiel et à distance \nLes entreprises et leurs salariés ne connaissent pas toujours les services\, offres et produits proposés par Action Logement. Pour mieux en bénéficier\, au profit d’une amélioration de leurs conditions de logement et de vie au travail\, L’Académie du MEDEF s’associe à Action Logement pour vous proposer un cycle de trois formations qui vous permettront de mieux connaitre les actions qu’il est possible de mener au sein de son entreprise. \nLe secteur du logement social regroupe de nombreuses activités parfois méconnues. Cette formation a pour vocation d’apporter une vision globale du logement social aux collaborateurs souhaitant découvrir ou redécouvrir cet environnement. \nAnimée par Action Logement Formation
URL:https://medef9394.org/agenda/la-decouverte-du-logement-social/
LOCATION:MEDEF\, 55 avenue Bosquet\, PARIS\, Île-de-France\, 75007\, France
CATEGORIES:Conférence,Webinaire
ATTACH;FMTTYPE=image/png:https://medef9394.org/wp-content/uploads/2025/07/Banniere-Academie-site-internet-MT-1024-x-544-px.png
END:VEVENT
BEGIN:VEVENT
DTSTART;TZID=UTC:20251103T143000
DTEND;TZID=UTC:20251103T160000
DTSTAMP:20260421T110932
CREATED:20251027T105233Z
LAST-MODIFIED:20251027T105233Z
UID:16599-1762180200-1762185600@medef9394.org
SUMMARY:Conférence Mandats sécurité sociale : rôle et responsabilités
DESCRIPTION:Conférence : Mandats sécurité sociale : rôle et responsabilités\nFormat : A distance\nDurée : 1h30\nParcours : Prendre et tenir un mandat \nCette rencontre vise à éclairer les mandataires et représentants\, présidents et élus\, responsables d’organisation professionnelle sur leur rôle dans le système de sécurité sociale\, en mettant l’accent sur l’influence qu’ils peuvent exercer. Les participants découvriront comment les cotisations sont utilisées\, les réformes en cours\, et comment ils peuvent participer aux discussions sur l’avenir du système. Cette conférence est essentielle pour ceux qui cherchent à représenter efficacement les intérêts des entreprises dans le cadre des discussions sur la sécurité sociale.
URL:https://medef9394.org/agenda/conference-mandats-securite-sociale-role-et-responsabilites/
CATEGORIES:Conférence,Webinaire
ATTACH;FMTTYPE=image/png:https://medef9394.org/wp-content/uploads/2025/07/Banniere-Academie-site-internet-MT-1024-x-544-px.png
END:VEVENT
BEGIN:VEVENT
DTSTART;TZID=UTC:20251112T143000
DTEND;TZID=UTC:20251112T160000
DTSTAMP:20260421T110932
CREATED:20251106T130507Z
LAST-MODIFIED:20251106T130507Z
UID:16621-1762957800-1762963200@medef9394.org
SUMMARY:Mandat URSSAF : rôle et responsabilités
DESCRIPTION:Mandat URSSAF : rôle et responsabilités\nFormat : A distance\nDurée : 1h30 \nCette rencontre vise à expliquer le rôle des URSSAF et comment les mandataires peuvent interagir avec ces organismes. Quelles relations avec l’URSSAF et comment encourager le dialogue avec les entreprises tout en respectant la convention d’objectifs et de gestion 2023-2027. Cette formation est cruciale pour comprendre comment le MEDEF agit dans l’intérêt des entreprises et promouvoir une croissance responsable.
URL:https://medef9394.org/agenda/mandat-urssaf-role-et-responsabilites/
CATEGORIES:Conférence
ATTACH;FMTTYPE=image/png:https://medef9394.org/wp-content/uploads/2025/07/Banniere-Academie-site-internet-MT-1024-x-544-px.png
END:VEVENT
BEGIN:VEVENT
DTSTART;TZID=UTC:20251113T093000
DTEND;TZID=UTC:20251113T123000
DTSTAMP:20260421T110932
CREATED:20251021T153027Z
LAST-MODIFIED:20251023T132257Z
UID:16570-1763026200-1763037000@medef9394.org
SUMMARY:50 ans d’engagement pour le Handicap
DESCRIPTION:50 ans d’engagement pour le Handicap\nL’année 2025 est emblématique à plus d’un titre en matière de politique du handicap\, car elle marque les 50 ans de la loi du 30 Juin 1975 portant sur l’obligation d’intégration sociale et professionnelle des personnes en situation de Handicap\, en affirmant leurs droits fondamentaux et en organisant leur accompagnement. \nLa DRIEETS de Seine-Saint-Denis avec le concours de ses partenaires et des Entreprises Sous Accord Agréé du Territoire vous propose d’aborder plus avant certaines questions. \n50 ans plus tard\, où en sommes-nous depuis ce changement de paradigme ? Quelles sont les avancées probantes\, notamment sur la Seine-Saint-Denis\, ainsi que le chemin qui reste à parcourir et les moyens qui sont mis en œuvre pour y parvenir ? \nLoin d’une fresque historique\, il s’agit de l’occasion d’échanger et partager avec les institutions qui œuvrent au quotidien au service des Personnes en Situation de Handicap et des Entreprises pour mieux comprendre leurs attributions\, leurs actions\, et les sollicitations pour lesquelles elles peuvent vous épauler »
URL:https://medef9394.org/agenda/50-ans-dengagement-pour-le-handicap/
LOCATION:Handilab\, 84 Rue Charles Michels\, Saint-Denis\, 93200\, France
CATEGORIES:Conférence,Réseautage
ATTACH;FMTTYPE=image/jpeg:https://medef9394.org/wp-content/uploads/2025/10/Bandeau-50-ans-dengagement-pour-le-Handicap-v4.jpg
END:VEVENT
BEGIN:VEVENT
DTSTART;TZID=UTC:20251119T170000
DTEND;TZID=UTC:20251119T200000
DTSTAMP:20260421T110932
CREATED:20251016T141210Z
LAST-MODIFIED:20251016T141210Z
UID:16544-1763571600-1763582400@medef9394.org
SUMMARY:L'industrie : un eldorado pour la France ?
DESCRIPTION:L’INDUSTRIE : UN ELDORADO POUR LA FRANCE ?\nEntre promesses et réalités\, la France peut-elle vraiment rester une nation industrielle ? \nDans le cadre de la semaine de l’industrie\, venez assister à cet événement exceptionnel\, en présence de Patrick Martin\, président du Mouvement des entreprises de France. \nReprésentant environ 13 % du PIB et 3\,3 millions d’emplois\, l’industrie française reste un pilier économique\, même si sa part a été divisée par deux depuis les années 1980. Depuis quelques années\, un mouvement de réindustrialisation s’amorce. En 2024\, la France a enregistré près de 90 ouvertures nettes de sites industriels\, une première depuis longtemps. Ce regain s’explique par des politiques publiques volontaristes (plans « France 2030 »\, « Relance » ou « Industrie verte »)\,  ainsi que par le besoin stratégique de relocaliser certaines productions critiques (santé\, énergie\, technologies). \nL’industrie est-elle encore la clé du renouveau économique ? Faut-il réindustrialiser\, quoi qu’il en coûte\, ou repenser le modèle industriel français ? Quels freins lever pour y parvenir ? Et comment concilier ambition industrielle et décarbonation ? \nDeux heures de débats et keynotes incontournables réunissant industriels\, responsables politiques\, investisseurs et acteurs de la transition\, autour d’une question décisive : \nLa France a-t-elle encore les moyens – et les raisons – de redevenir une grande nation industrielle ? \nUn temps fort d’échanges et de perspectives\, avec des voix majeures de l’industrie\, de l’économie et de la recherche\, françaises et européennes. \nVenez assister à cette REF Thema en présence de nombres experts et dirigeants d’entreprises.
URL:https://medef9394.org/agenda/lindustrie-un-eldorado-pour-la-france/
LOCATION:MEDEF\, 55 avenue Bosquet\, PARIS\, Île-de-France\, 75007\, France
CATEGORIES:Conférence
ATTACH;FMTTYPE=image/jpeg:https://medef9394.org/wp-content/uploads/2025/10/LaREF-Industrie.jpg
END:VEVENT
BEGIN:VEVENT
DTSTART;TZID=UTC:20251119T183000
DTEND;TZID=UTC:20251119T220000
DTSTAMP:20260421T110932
CREATED:20251022T152344Z
LAST-MODIFIED:20251022T152344Z
UID:16585-1763577000-1763589600@medef9394.org
SUMMARY:[SAVE THE DATE] Lancement du Club Philanthropie du Medef de l'Est Parisien
DESCRIPTION:Lancement du Club Philanthropie du Medef de l’Est Parisien\nEn partenariat avec France Invest \nDécouvrez comment intégrer la philanthropie en entreprise dans votre stratégie avec Anastasia Andrieu\, Présidente du Club Philanthropie Medef Est Parisien.​ \nCe que vous apprendrez : \n✅ Optimiser la fiscalité mécénat pour votre PME/ETI \n✅ Transformer la philanthropie en levier de développement \n✅ Éviter les pièges du mécénat d’entreprise \n✅ Financement de l’intérêt général : mode d’emploi \n✅ Fondation d’entreprise : création et gestion \n 
URL:https://medef9394.org/agenda/save-the-date-lancement-du-club-philanthropie-du-medef-de-lest-parisien/
LOCATION:Climate House\, 39 Rue du Caire\, Paris\, 75002\, France
CATEGORIES:Afterwork,Atelier du Club Philanthropie,Conférence
ATTACH;FMTTYPE=image/jpeg:https://medef9394.org/wp-content/uploads/2025/10/Logo-CLUB-Philanthropie-v1.jpg
ORGANIZER;CN="Medef de l'Est Parisien":MAILTO:contact@medef9394.org
END:VEVENT
BEGIN:VEVENT
DTSTART;TZID=UTC:20251124T133000
DTEND;TZID=UTC:20251124T180000
DTSTAMP:20260421T110932
CREATED:20251021T153650Z
LAST-MODIFIED:20251021T153650Z
UID:16576-1763991000-1764007200@medef9394.org
SUMMARY:Changeons de regard comptons sur l’expérience
DESCRIPTION:Changeons de regard comptons sur l’expérience\nRecrutez des 50 ans et + \nLe 24 novembre à Vincennes\, vivez un après-midi pensé pour les entreprises qui veulent recruter autrement et gagner en efficacité. \nAu programme : \n\nAteliers interactifs : explorer des #outils pratiques et des #dispositifs pour booster vos recrutements.\nEchanges inspirants : découvrez comment #mobiliser vos collaborateurs autour de l’emploi des 50+.\nJobdating : rencontrez directement des profils #expérimentés prêts à s’engager.\n\nParce que chaque parcours est unique\, et que l’âge n’est pas une barrière mais une force\, rejoignez-nous pour bâtir ensemble un marché du travail plus inclusif et plus efficace.
URL:https://medef9394.org/agenda/changeons-de-regard-comptons-sur-lexperience/
LOCATION:Metafore Vincennes-Foch\, 39 Avenue Foch\, Vincennes\, Île-de-France\, 94300\, France
CATEGORIES:Atelier,Conférence,Job dating,Réseautage
ATTACH;FMTTYPE=image/png:https://medef9394.org/wp-content/uploads/2025/10/Communication-linkedin-Senior-scaled.png
ORGANIZER;CN="Medef de l'Est Parisien":MAILTO:contact@medef9394.org
END:VEVENT
BEGIN:VEVENT
DTSTART;TZID=UTC:20251124T183000
DTEND;TZID=UTC:20251124T220000
DTSTAMP:20260421T110932
CREATED:20251027T110354Z
LAST-MODIFIED:20251027T110354Z
UID:16601-1764009000-1764021600@medef9394.org
SUMMARY:MedTech
DESCRIPTION:MedTech\nSuite au succès des deux premières éditions des Soirées Tech du MEDEF consacrées aux Legaltech et aux Edtech\, nous vous invitons à nous rejoindre pour une troisième édition passionnante centrée sur les Medtech. \nAu cours de cet évènement nous mettrons en lumière les solutions innovantes proposées par 12 startups Medtech de toute la France. Cette soirée sera également l’occasion de récompenser une innovation particulièrement prometteuse avec un prix « coup de cœur du public ». \nPROGRAMME \nUne soirée animée par Annabelle Baudin \n18h30 – 19h00 | Accueil des participants \n19h00 – 19h10 | Ouverture de l’évènement avec Paola Fabiani\, vice-présidente du Medef \n19h10 – 19h30 | Présentation des solutions proposées par 4 startups \n19h30 – 19h45 | Intervention de France Biotech et du Snitem \n19h45 – 20h05 | Présentation des solutions proposées par 4 startups \n20h05 – 20h15 | Intervention de La French Tech \n20h15 – 20h35 | Présentation des solutions proposées par 4 startups \n20h35 | Remise d’un prix « coup de cœur du public » Amaury de Buchet\, co-président du comité startup du MEDEF \n20h40 – 22h00 | Cocktail dînatoire \n 
URL:https://medef9394.org/agenda/medtech/
LOCATION:MEDEF\, 55 avenue Bosquet\, PARIS\, Île-de-France\, 75007\, France
CATEGORIES:Conférence,Réseautage
ATTACH;FMTTYPE=image/jpeg:https://medef9394.org/wp-content/uploads/2025/10/Bandeau-MedTech.jpg
END:VEVENT
BEGIN:VEVENT
DTSTART;TZID=UTC:20251125T090000
DTEND;TZID=UTC:20251125T121500
DTSTAMP:20260421T110932
CREATED:20251120T112143Z
LAST-MODIFIED:20251120T112143Z
UID:16693-1764061200-1764072900@medef9394.org
SUMMARY:Inclusion : l'entreprise au cœur du progrès
DESCRIPTION:Inclusion : l’entreprise au cœur du progrès\nA l’occasion de la présentation de son Livre Blanc « Construire l’entreprise de demain : pour une approche stratégique de l’inclusion »\, le Mouvement des entreprises de France réunit celles et ceux qui incarnent la transformation sociale par l’entreprise. \nUn rendez-vous décisif pour penser l’entreprise de demain et démontrer que l’inclusion n’est plus un supplément d’âme – c’est un levier de performance\, de cohésion et de croissance.\nPour cette matinée exceptionnelle\, des personnalités de premier plan viendront confronter leurs visions\, partager leurs expériences et proposer des solutions concrètes. \nParmi les grandes voix de cette matinée : \n\nCéline Gréco\, Présidente de l’association Im’Pactes\nJean-Louis Borloo\, Ancien ministre\nÉlodie Baussand\, Associée fondatrice du cabinet Tenzing\nJean-Pierre Farandou\, Ministre du Travail et des Solidarités\nAnne-Sophie Moreau\, Rédactrice en chef de Philonomist\nSébastien Bazin\, PDG du groupe Accor\nJuliette Méadel\, Ancienne ministre\nMartin Hirsch\, Président de l’Institut de l’Engagement\, ancien ministre\nPatrick Martin\, Président du Mouvement des entreprises de France\n\nAnimation : Marc Landré \n  \nÀ leurs côtés\, des entrepreneurs engagés\, des experts de terrain\, des dirigeants\, des talents issus des territoires et de l’alternance\, ainsi que des témoignages inspirants autour de l’emploi\, du mentorat\, de l’éducation et du rôle des entreprises dans la cohésion nationale. \n  \nUn fil rouge : remettre l’entreprise au centre de la société. Quelles stratégies pour une croissance inclusive ? Comment répondre aux défis sociaux sans perdre le fil de la performance ?\nTrois heures d’échanges\, de débats\, de perspectives fortes – pour penser une entreprise plus ouverte\, plus responsable et plus robuste.
URL:https://medef9394.org/agenda/inclusion-lentreprise-au-coeur-du-progres/
LOCATION:Théâtre de la Tour Eiffel\, 4\, square Rapp\, Paris\, 75004\, France
CATEGORIES:Conférence
ATTACH;FMTTYPE=image/jpeg:https://medef9394.org/wp-content/uploads/2025/11/Visuel-inclusion.jpg
END:VEVENT
BEGIN:VEVENT
DTSTART;TZID=UTC:20251125T090000
DTEND;TZID=UTC:20251126T183000
DTSTAMP:20260421T110932
CREATED:20251118T142613Z
LAST-MODIFIED:20251118T142613Z
UID:16670-1764061200-1764181800@medef9394.org
SUMMARY:Sommet Adopt AI
DESCRIPTION:Sommet Adopt AI\nAdopt AI\, en partenariat avec le Medef de l’Est Parisien\, est heureux de vous convier au plus grand sommet européen dédié à l’adoption de l’IA par les entreprises. \n  \nCe « Davos de l’IA » réunira plus de 25 000 participants\, 500 intervenants\, et 250 exposants\, dans un cadre prestigieux sous le haut patronage du Président de la République\, Emmanuel Macron. \n  \nUne cinquantaine de CEOs ont d’ores et déjà confirmé leur présence : \n\nGuillaume Faury\, CEO – AIRBUS\nNicolas Namias\, CEO – BPCE\nAlexandre Bompard\, CEO – CARREFOUR\nOlivier Gavalda\, CEO – CRÉDIT AGRICOLE\nBernard Fontana\, CEO – EDF\nChristel Heydemann\, CEO – ORANGE\nPaul Hudson\, CEO – SANOFI\nPatrick Pouyanné\, CEO – TOTAL ENERGIES\nEstelle Brachlianoff\, CEO – VEOLIA\n\n  \nNe manquez pas cette opportunité de : \n\nRencontrer des CEO de grandes entreprises ;\nÉchanger avec des experts de l’IA\, des start-ups et des acteurs technologiques majeurs ;\nDécouvrir les applications concrètes de l’intelligence artificielle et anticiper les mutations sectorielles.\n\n  \nCet évènement est gratuit sur les deux journées uniquement pour nos adhérents.
URL:https://medef9394.org/agenda/sommet-adopt-ai/
LOCATION:Grand Palais\, Paris\, 75008\, France
CATEGORIES:Conférence,Réseautage
ATTACH;FMTTYPE=image/png:https://medef9394.org/wp-content/uploads/2025/11/Bandeau.png
END:VEVENT
END:VCALENDAR