BEGIN:VCALENDAR
VERSION:2.0
PRODID:-//Medef de l&#039;Est Parisien - ECPv6.15.20//NONSGML v1.0//EN
CALSCALE:GREGORIAN
METHOD:PUBLISH
X-WR-CALNAME:Medef de l&#039;Est Parisien
X-ORIGINAL-URL:https://medef9394.org
X-WR-CALDESC:Évènements pour Medef de l&#039;Est Parisien
REFRESH-INTERVAL;VALUE=DURATION:PT1H
X-Robots-Tag:noindex
X-PUBLISHED-TTL:PT1H
BEGIN:VTIMEZONE
TZID:UTC
BEGIN:STANDARD
TZOFFSETFROM:+0000
TZOFFSETTO:+0000
TZNAME:UTC
DTSTART:20240101T000000
END:STANDARD
END:VTIMEZONE
BEGIN:VEVENT
DTSTART;TZID=UTC:20250904T173000
DTEND;TZID=UTC:20250904T200000
DTSTAMP:20260421T135714
CREATED:20250612T125558Z
LAST-MODIFIED:20250630T110129Z
UID:15964-1757007000-1757016000@medef9394.org
SUMMARY:Colloque Urssaf : Accompagner l’entrepreneuriat en Île-de-France
DESCRIPTION:Colloque Urssaf : Accompagner l’entrepreneuriat en Île-de-France\nMadame Valérie Pécresse\nPrésidente de la Région Île-de-France\, \nMonsieur Philippe Savajols \nPrésident du conseil d’administration\, et les \nadministrateurs de l’Urssaf Île-de-France\, \nMonsieur Didier Malric\nDirecteur général de l’Urssaf Île-de-France\, \n  \nont le plaisir de vous convier à un colloque exceptionnel \nle jeudi 4 septembre 2025\,\nà l’Hôtel de Région d’Île-de-France\, \nau 8 boulevard Victor Hugo\, \n93400 Saint-Ouen-sur-Seine\, \n« Accompagner l’entrepreneuriat en Île-de-France »\nA l’occasion de la rentrée économique 2025\, ce rendez-vous réunira des acteurs économiques\, institutionnels\, associatifs et politiques du territoire. Il visera à mettre en lumière le rôle de l’Urssaf Ile-de-France dans l’accompagnement et le soutien aux entreprises franciliennes\, ainsi que l’engagement de l’ensemble de ses partenaires qui l’accompagnent au quotidien dans ses missions. \nLe colloque se déroulera de 18h00 à 20h et sera suivi d’un cocktail et d’un temps de rencontre autour des stands de nos partenaires. \nL’accueil des participants débutera dès 17h30.
URL:https://medef9394.org/agenda/colloque-urssaf-accompagner-lentrepreneuriat-en-ile-de-france/
LOCATION:Hôtel de Région d’Île-de-France\, 8 boulevard Victor Hugo\, Saint-Ouen-sur-Seine\, 93400\, France
CATEGORIES:Conférence
ATTACH;FMTTYPE=image/png:https://medef9394.org/wp-content/uploads/2025/06/Visuel-colloque-URSSAF.png
END:VEVENT
BEGIN:VEVENT
DTSTART;TZID=UTC:20250916T140000
DTEND;TZID=UTC:20250916T173000
DTSTAMP:20260421T135714
CREATED:20250710T144813Z
LAST-MODIFIED:20250710T144813Z
UID:16110-1758031200-1758043800@medef9394.org
SUMMARY:Recrutement inclusif avec l’IAE
DESCRIPTION:Recrutement inclusif avec l’IAE\nUn événement francilien 3-en-1 pour faire bouger les lignes ! \nLe MEDEF Île-de-France est partenaire de l’événement francilien « Recrutement inclusif avec l’IAE (*Insertion par l’Activité Économique) »\, organisé par la Cité des métiers de Paris et le GRAFIE\, via la Fédération des acteurs de la solidarité Île-de-France\, avec le soutien de : Les Entreprises s’engagent – Paris\, la CCI Paris Île-de-France\, France Travail Île-de-France\, la CPME Île-de-France\, le Campus de l’inclusion\, la Plateforme de l’inclusion\, Social Cobbiz\, Yookan\, et bien d’autres. \nDestiné aux entreprises engagées\, aux professionnels de l’IAE et aux candidats en quête d’un emploi durable\, cet événement 3-en-1 a pour ambition de faire bouger les lignes en matière de recrutement inclusif : \n\nEspace Inspiration & Échanges \nDes regards croisés d’experts\, d’entreprises et d’acteurs de l’insertion pour repenser les pratiques RH à travers deux séquences clés : « Santé mentale\, inclusion et performance RH » avec la Fondation Jean Jaurès\, Activ’Action et Deloitte ; et  « Recruter autrement » avec les témoignages d’IKEA\, Pierre Hermé\, France Travail\, Vinci Construction\, SEVE Emploi\, Social Cobbiz\, etc.\nEspace Jobdating\nRencontrez des talents accompagnés par les structures de l’IAE en Île-de-France ! Un format innovant et structuré pour optimiser les recrutements : matching profils\, briefs\, entretiens préparés.\nEspace Meet-up & Village des solutions\nDes outils pour agir\, des solutions à découvrir\, des synergies à créer avec les acteurs clés de l’emploi inclusif.
URL:https://medef9394.org/agenda/recrutement-inclusif-avec-liae/
LOCATION:Cité des Sciences et de l’Industrie\, 30 Av. Corentin Cariou\, Paris\, 75019\, France
CATEGORIES:Conférence
ATTACH;FMTTYPE=image/png:https://medef9394.org/wp-content/uploads/2025/07/Recrutement-inclusif-avec-lIAE.png
END:VEVENT
BEGIN:VEVENT
DTSTART;TZID=UTC:20250922T140000
DTEND;TZID=UTC:20250922T160000
DTSTAMP:20260421T135714
CREATED:20250905T074825Z
LAST-MODIFIED:20250912T103632Z
UID:16356-1758549600-1758556800@medef9394.org
SUMMARY:Le paritarisme au service d'un modèle social
DESCRIPTION:Le paritarisme au service d’un modèle social\nFormat : présentiel et à distance\nDurée : 2h \nsi vous souhaitez participer aux rencontres dédiées aux adhérents\, il convient de vous créer au préalable un compte utilisateur sur le site de l’Académie.\nUne fois votre compte validé\, vous pourrez vous inscrire à l’ensemble des formations\, conférences et webinaires.  \nEn France\, de nombreux mandataires\, issus des organisations patronales et des syndicats\, apportent leur contribution à l’organisation du monde économique et\, plus largement\, de la société. \nLe paritarisme est une école pratique des relations sociales\, un lieu permanent de dialogue et de concertation\, un apprentissage des accords sociaux. Il est aussi\, face à un Etat omniprésent\, un dispositif concret et efficace de régulation de la société\, un moyen d’organiser la vie sociale en confiant aux acteurs directement concernés la liberté et la responsabilité qui leur revient. \nCette formation permettra de disposer d’un regard sur le contexte économique et les évolutions du climat social qui conditionnent le dialogue social en France et dans les entreprises ; de situer le positionnement des différents acteurs du dialogue social et leurs évolutions ; de mesurer l’importance du paritarisme pour les entreprises et pour la société ; de décrypter le fonctionnement du paritarisme et ses enjeux actuels.
URL:https://medef9394.org/agenda/le-paritarisme-au-service-dun-modele-social/
LOCATION:MEDEF\, 55 avenue Bosquet\, PARIS\, Île-de-France\, 75007\, France
CATEGORIES:Conférence,Webinaire
ATTACH;FMTTYPE=image/png:https://medef9394.org/wp-content/uploads/2025/07/Banniere-Academie-site-internet-MT-1024-x-544-px.png
END:VEVENT
END:VCALENDAR