BEGIN:VCALENDAR
VERSION:2.0
PRODID:-//Medef de l&#039;Est Parisien - ECPv6.15.20//NONSGML v1.0//EN
CALSCALE:GREGORIAN
METHOD:PUBLISH
X-ORIGINAL-URL:https://medef9394.org
X-WR-CALDESC:Évènements pour Medef de l&#039;Est Parisien
REFRESH-INTERVAL;VALUE=DURATION:PT1H
X-Robots-Tag:noindex
X-PUBLISHED-TTL:PT1H
BEGIN:VTIMEZONE
TZID:UTC
BEGIN:STANDARD
TZOFFSETFROM:+0000
TZOFFSETTO:+0000
TZNAME:UTC
DTSTART:20240101T000000
END:STANDARD
END:VTIMEZONE
BEGIN:VEVENT
DTSTART;TZID=UTC:20250911T143000
DTEND;TZID=UTC:20250911T153000
DTSTAMP:20260421T082848
CREATED:20250905T073833Z
LAST-MODIFIED:20250905T073833Z
UID:16352-1757601000-1757604600@medef9394.org
SUMMARY:Organisation et attractivité des entreprises auprès des jeunes générations
DESCRIPTION:Organisation et attractivité des entreprises auprès des jeunes générations\nFormat : A distance\nDurée : 1h \nLa jeunesse porte un intérêt certain pour le monde de l’entreprise mais leurs attentes sont également élevées. Dans ce nouveau rapport et dans une période marquée par les difficultés de recrutement\, comment convaincre les jeunes que l’entreprise peut être aussi un lieu d’engagement ? L’enjeu est crucial\, car chaque année\, entre 700 000 et 800 000 jeunes entrent sur le marché du travail représentant un vivier de talents essentiels pour l’avenir des entreprises. Quels leviers d’action peuvent être envisagés par ces dernières ? Flexibilité\, convivialité\, innovation avec déploiement d’outils d’IA\, formations\, forte mobilité interne\, télétravail… Les employeurs témoignent sur les solutions innovantes mises en place pour attirer les jeunes générations. \n 
URL:https://medef9394.org/agenda/organisation-et-attractivite-des-entreprises-aupres-des-jeunes-generations/
CATEGORIES:Webinaire
ATTACH;FMTTYPE=image/png:https://medef9394.org/wp-content/uploads/2025/07/Banniere-Academie-site-internet-MT-1024-x-544-px.png
END:VEVENT
END:VCALENDAR