BEGIN:VCALENDAR
VERSION:2.0
PRODID:-//Medef de l&#039;Est Parisien - ECPv6.15.20//NONSGML v1.0//EN
CALSCALE:GREGORIAN
METHOD:PUBLISH
X-WR-CALNAME:Medef de l&#039;Est Parisien
X-ORIGINAL-URL:https://medef9394.org
X-WR-CALDESC:Évènements pour Medef de l&#039;Est Parisien
REFRESH-INTERVAL;VALUE=DURATION:PT1H
X-Robots-Tag:noindex
X-PUBLISHED-TTL:PT1H
BEGIN:VTIMEZONE
TZID:UTC
BEGIN:STANDARD
TZOFFSETFROM:+0000
TZOFFSETTO:+0000
TZNAME:UTC
DTSTART:20240101T000000
END:STANDARD
END:VTIMEZONE
BEGIN:VEVENT
DTSTART;TZID=UTC:20250626T140000
DTEND;TZID=UTC:20250626T170000
DTSTAMP:20260421T131915
CREATED:20250604T104630Z
LAST-MODIFIED:20250630T110130Z
UID:15924-1750946400-1750957200@medef9394.org
SUMMARY:Plongez au cœur du laboratoire Boiron à Pantin
DESCRIPTION:Plongez au cœur du laboratoire Boiron à Pantin\nNous avons le plaisir de vous convier à une visite d’exception de l’établissement pharmaceutique Boiron\, installé à Pantin depuis 2007. Leader mondial de l’homéopathie\, Boiron fabrique et distribue chaque jour des médicaments et produits de santé utiles\, efficaces et sûrs. \n  \nModalités d’accès : \n\nRER E : Arrêt PANTIN puis 10′ de marche\nMétro Ligne 5 : Arrêt HOCHE ou Arrêt ÉGLISE DE PANTIN\, puis 15′ de marche\n\nAu programme de la visite \n1 – Focus sur Boiron :\n• Histoire et valeurs\n• Envergure territoriale et rayonnement international \n2 – Fabrication des médicaments homéopathiques :\n• Principales étapes de production\n• Normes de qualité et sécurité \n3 – Médecine intégrative & Recherche :\n• Enjeux actuels\n• Projets innovants en cours \n4 – Visite guidée du site :\n• Logistique et chaîne d’approvisionnement\n• Service Relations Clients – Atelier préparatoire \n5 – Séance Q&A\n• jusqu’à 17 h pour répondre à toutes vos questions \n  \nQuelques chiffres clés\n• Chiffre d’affaires global (2023) : 493 M€\n• Investissements en France (2017-2023) : Plus de 229 M€\n• Effectif total : 2 810 salariés dont 1 847 en France (au 31/12/2023)\n• 2 sites de production en France\n• 15 établissements de préparation/distribution répartis sur tout le territoire français (Bordeaux\, Lille\, Marseille\, Paris\, etc.)
URL:https://medef9394.org/agenda/plongez-au-coeur-du-laboratoire-boiron-a-pantin/
LOCATION:LABORATOIRES BOIRON\, 89/91 rue Cartier Bresson\, Pantin\, 93500
CATEGORIES:Visite d'entreprise
ATTACH;FMTTYPE=image/jpeg:https://medef9394.org/wp-content/uploads/2025/06/Visite-Boiron-v3-.jpg
ORGANIZER;CN="Medef de l'Est Parisien":MAILTO:contact@medef9394.org
END:VEVENT
END:VCALENDAR