BEGIN:VCALENDAR
VERSION:2.0
PRODID:-//Medef de l&#039;Est Parisien - ECPv6.15.20//NONSGML v1.0//EN
CALSCALE:GREGORIAN
METHOD:PUBLISH
X-WR-CALNAME:Medef de l&#039;Est Parisien
X-ORIGINAL-URL:https://medef9394.org
X-WR-CALDESC:Évènements pour Medef de l&#039;Est Parisien
REFRESH-INTERVAL;VALUE=DURATION:PT1H
X-Robots-Tag:noindex
X-PUBLISHED-TTL:PT1H
BEGIN:VTIMEZONE
TZID:UTC
BEGIN:STANDARD
TZOFFSETFROM:+0000
TZOFFSETTO:+0000
TZNAME:UTC
DTSTART:20240101T000000
END:STANDARD
END:VTIMEZONE
BEGIN:VEVENT
DTSTART;TZID=UTC:20250311T084500
DTEND;TZID=UTC:20250311T120000
DTSTAMP:20260421T190055
CREATED:20250225T100010Z
LAST-MODIFIED:20250225T100123Z
UID:14504-1741682700-1741694400@medef9394.org
SUMMARY:JOB DATING - FOCUS SUR LES MÉTIERS DE LA LOGISTIQUE
DESCRIPTION:JOB DATING – FOCUS SUR LES MÉTIERS DE LA LOGISTIQUE \n𝗜𝗻𝘀𝗲𝗿’𝗘𝗰𝗼𝟵𝟯\, en partenariat avec la 𝗖𝗖𝗜 𝗦𝗲𝗶𝗻𝗲-𝗦𝗮𝗶𝗻𝘁-𝗗𝗲𝗻𝗶𝘀 et des structures d’insertion (Lemon Tri\, Les Valoristes\, Carton Plein)\, organise une matinée dédiée aux métiers de la logistique le 𝟭𝟭 𝗺𝗮𝗿𝘀 𝟮𝟬𝟮𝟱 𝗱𝗲 𝟬𝟴𝗵𝟰𝟱 𝗮̀ 𝟭𝟮𝗵𝟬𝟬 𝗮̀ 𝗣𝗮𝗻𝘁𝗶𝗻 (𝟴𝟯 𝗥𝘂𝗲 𝗖𝗮𝗿𝘁𝗶𝗲𝗿 𝗕𝗿𝗲𝘀𝘀𝗼𝗻\, 𝟵𝟯𝟱𝟬𝟬). \n𝗟’𝗲́𝘃𝗲́𝗻𝗲𝗺𝗲𝗻𝘁 𝗰𝗼𝗺𝗽𝗿𝗲𝗻𝗱𝗿𝗮 :\n➡️ Une présentation de l’insertion par l’activité économique\n➡️ Une rencontre des structures d’insertion\n➡️ Un job dating avec des candidats issus d’un parcours d’insertion \nUne opportunité unique pour les entreprises du secteur de la logistique 𝗱𝗲 𝗿𝗲𝗰𝗿𝘂𝘁𝗲𝗿 𝗱𝗲 𝗺𝗮𝗻𝗶𝗲̀𝗿𝗲 𝗶𝗻𝗰𝗹𝘂𝘀𝗶𝘃𝗲. \nVous avez des postes à pourvoir et souhaitez rencontrer des candidats préparés et motivés\, 𝗶𝗻𝘀𝗰𝗿𝗶𝘃𝗲𝘇-𝘃𝗼𝘂𝘀 𝗮𝘂 𝗝𝗼𝗯-𝗗𝗮𝘁𝗶𝗻𝗴 dés à présent. \n𝗘𝗻𝘀𝗲𝗺𝗯𝗹𝗲\, 𝗲𝗻𝗴𝗮𝗴𝗲𝗼𝗻𝘀 𝗹’𝗶𝗻𝗰𝗹𝘂𝘀𝗶𝗼𝗻 𝗮𝘂 𝗰œ𝘂𝗿 𝗱𝗲 𝗻𝗼𝘀 𝘃𝗮𝗹𝗲𝘂𝗿𝘀 !
URL:https://medef9394.org/agenda/job-dating-metiers-de-la-logistique/
LOCATION:𝟴𝟯 𝗥𝘂𝗲 𝗖𝗮𝗿𝘁𝗶𝗲𝗿 𝗕𝗿𝗲𝘀𝘀𝗼𝗻\, 𝟵𝟯𝟱𝟬𝟬\, 𝟴𝟯 𝗥𝘂𝗲 𝗖𝗮𝗿𝘁𝗶𝗲𝗿 𝗕𝗿𝗲𝘀𝘀𝗼𝗻\, Pantin\, 𝟵𝟯𝟱𝟬𝟬\, France
CATEGORIES:Job dating
ATTACH;FMTTYPE=image/jpeg:https://medef9394.org/wp-content/uploads/2025/02/Job-dating-logistique.jpg
END:VEVENT
BEGIN:VEVENT
DTSTART;TZID=UTC:20250311T093000
DTEND;TZID=UTC:20250311T150000
DTSTAMP:20260421T190055
CREATED:20250212T165245Z
LAST-MODIFIED:20250212T165338Z
UID:14359-1741685400-1741705200@medef9394.org
SUMMARY:LaREFNum25
DESCRIPTION:LaREFNum25 : Le quantique\, c’est fantastique ! \nPour sa 12ᵉ édition\, #LaREFNum25 vous invite à une plongée au coeur de la révolution quantique. Cette journée incontournable réunira PME\, ETI\, start-ups et grandes entreprises qui feront le point sur les dernières avancées en matière de quantique. \nQuelle ambition la France et l’Europe doivent-elles nourrir pour cette technologie d’avenir ? Quelles applications concrètes les entreprises peuvent-elles envisager à court terme ? Comment ces avancées transforment-elles des secteurs clés comme la santé\, l’énergie ou la sécurité ? \nÀ noter les participations exceptionnelles de : \n\nAlain Aspect\, Professeur à l’Institut d’Optique de l’Université Paris-Saclay et à l’Ecole Polytechnique. Prix Nobel de physique (2022)\nPatrick Martin\, Président du Mouvement des entreprises de France (Medef)\n\n 
URL:https://medef9394.org/agenda/larefnum25/
LOCATION:MEDEF\, 55 avenue Bosquet\, PARIS\, Île-de-France\, 75007\, France
CATEGORIES:Conférence
ATTACH;FMTTYPE=image/jpeg:https://medef9394.org/wp-content/uploads/2025/02/REFNum.jpg
END:VEVENT
END:VCALENDAR