BEGIN:VCALENDAR
VERSION:2.0
PRODID:-//Medef de l&#039;Est Parisien - ECPv6.15.20//NONSGML v1.0//EN
CALSCALE:GREGORIAN
METHOD:PUBLISH
X-WR-CALNAME:Medef de l&#039;Est Parisien
X-ORIGINAL-URL:https://medef9394.org
X-WR-CALDESC:Évènements pour Medef de l&#039;Est Parisien
REFRESH-INTERVAL;VALUE=DURATION:PT1H
X-Robots-Tag:noindex
X-PUBLISHED-TTL:PT1H
BEGIN:VTIMEZONE
TZID:UTC
BEGIN:STANDARD
TZOFFSETFROM:+0000
TZOFFSETTO:+0000
TZNAME:UTC
DTSTART:20230101T000000
END:STANDARD
END:VTIMEZONE
BEGIN:VEVENT
DTSTART;TZID=UTC:20241119T090000
DTEND;TZID=UTC:20241119T103000
DTSTAMP:20260422T010113
CREATED:20241028T115723Z
LAST-MODIFIED:20241028T115723Z
UID:12732-1732006800-1732012200@medef9394.org
SUMMARY:Table ronde actualité sociale - Quatrième trimestre 2024
DESCRIPTION:Table ronde actualité sociale — Quatrième trimestre 2024 \nVous pensez que l’été 2024 a seulement été consacré à la dissolution de l’Assemblée nationale\, aux Jeux de Paris et à l’attente de la nomination d’un nouveau Gouvernement ? Or\, pendant cette période\, des mesures de droit social ont été prises et sont entrées en vigueur et les juridictions sociales ont rendu des décisions impactantees. \n  \nTour d’horizon des nouveautés par le Medef de l’Est Parisien\, en partenariat avec Me Marie-Véronique LUMEAU (cabinet WOOG)\, avocat en droit social au Barreau de Paris. \n  \nPROGRAMME \nActualité légale et réglementaire : \n\nDécret sur la PPV du 29 juin 2024\,\nDécret d’application de la loi immigration du 9 juillet 2024\,\nTravailleurs étrangers\,\nEmbauche et contrat de travail\,\nRelations avec les représentants du personnel\,\n\nFocus : la santé au travail : \n\nDécret du 5 juillet 2024 sur la contre-visite médicale\,\nSuivi de l’état de santé des salariés\,\nAccidents du travail des intérimaires\,\nLes derniers arrêts sur la jurisprudence en matière d’inaptitude médicale\,\n\nActualité jurisprudentielle :  \n\nPrécisions sur les délais de prescription en matière sociale\,\nCongés payés et arrêt maladie d’origine professionnelle\,\nDurée du travail\,\nRevue des arrêts marquants du troisième trimestre 2024.\n\n\nPour toute question\, merci de nous contacter au 09.78.80.07.34 ou par courriel : servicejuridique@medef9394.org
URL:https://medef9394.org/agenda/table-ronde-actualite-sociale-quatrieme-trimestre-2024/
LOCATION:Metafore Vincennes-Foch\, 39 Avenue Foch\, Vincennes\, Île-de-France\, 94300\, France
CATEGORIES:Table ronde
ATTACH;FMTTYPE=image/jpeg:https://medef9394.org/wp-content/uploads/2024/10/Actualite-sociale-du-19-novembre-2024-v2-scaled.jpg
ORGANIZER;CN="Medef de l'Est Parisien":MAILTO:contact@medef9394.org
END:VEVENT
BEGIN:VEVENT
DTSTART;TZID=UTC:20241119T100000
DTEND;TZID=UTC:20241119T180000
DTSTAMP:20260422T010113
CREATED:20241021T104934Z
LAST-MODIFIED:20241021T104934Z
UID:12632-1732010400-1732039200@medef9394.org
SUMMARY:Salon Effervescence 94
DESCRIPTION:Salon Effervescence 94  \nInscrivez-vous comme exposant au Salon Effervescence 94 \nLa CCI Val-de-Marne organise le 19 novembre 2024 son premier salon Effervescence. \nLe salon Effervescence94 vous permet de faire se rencontrer des PME/PMI du Val-de-Marne\, de l’industrie et des services aux entreprises. \nHoraires : \nDe 10h00 à 14h00 : période réservée aux exposants qui ont toute latitude pour échanger sur leur business\, tisser des collaborations et construire des projets. Un buffet leur sera servi vers 12h30 \nDe 14h00 à 18h00 : ouverture du salon aux visiteurs extérieurs \nPour cette première édition la CCI Val-de-Marne attend 150 exposants. De nombreux partenaires économiques viennent nous apporter leur soutien.\nLes premiers partenaires sont les trois établissements publics territoriaux : GOSB\, GPSEA et PEMB ainsi que la Bred Banque Populaire\, Le groupe ADP. \n 
URL:https://medef9394.org/agenda/salon-effervescence-94/
LOCATION:Palais des Sports Robert Oubron\, 5 Rue Pasteur Vallery Radot\, CRETEIL\, France
CATEGORIES:Salon
ATTACH;FMTTYPE=image/png:https://medef9394.org/wp-content/uploads/2024/10/Salon-Effervescence-94.png
END:VEVENT
END:VCALENDAR